BEGIN:VCALENDAR
VERSION:2.0
PRODID:-//Kunkle Fire Department - ECPv6.15.20//NONSGML v1.0//EN
CALSCALE:GREGORIAN
METHOD:PUBLISH
X-WR-CALNAME:Kunkle Fire Department
X-ORIGINAL-URL:https://kunklefire.com
X-WR-CALDESC:Events for Kunkle Fire Department
REFRESH-INTERVAL;VALUE=DURATION:PT1H
X-Robots-Tag:noindex
X-PUBLISHED-TTL:PT1H
BEGIN:VTIMEZONE
TZID:UTC
BEGIN:STANDARD
TZOFFSETFROM:+0000
TZOFFSETTO:+0000
TZNAME:UTC
DTSTART:20250101T000000
END:STANDARD
END:VTIMEZONE
BEGIN:VEVENT
DTSTART;TZID=UTC:20260425T110000
DTEND;TZID=UTC:20260425T130000
DTSTAMP:20260423T115634
CREATED:20180314T222227Z
LAST-MODIFIED:20260420T165301Z
UID:314-1777114800-1777122000@kunklefire.com
SUMMARY:Roadside Chicken Bar-B-Q
DESCRIPTION:Kunkle Fire Company will be holding a Chicken Bar-B-Q on Saturday\, April 25th\, from 11:00 AM until sold out. This will be a drive-thru event. Half a chicken (no sides) at $8.00 each will be available for pick up at the Kunkle Fire Station. Come out and support your local volunteers!!
URL:https://kunklefire.com/event/roadside-chicken-bar-b-q/
LOCATION:Kunkle Fire Station\, 3943 State Route 309\, Dallas\, PA\, 18612\, United States
ATTACH;FMTTYPE=image/jpeg:https://kunklefire.com/wp-content/uploads/2018/03/overhead-view-delicious-pieces-chicken-meat-metal-grill.jpg
END:VEVENT
END:VCALENDAR